BEGIN:VCALENDAR
VERSION:2.0
PRODID:-//Southern Indiana Works - ECPv6.13.0//NONSGML v1.0//EN
CALSCALE:GREGORIAN
METHOD:PUBLISH
X-WR-CALNAME:Southern Indiana Works
X-ORIGINAL-URL:https://soinworks.com
X-WR-CALDESC:Events for Southern Indiana Works
REFRESH-INTERVAL;VALUE=DURATION:PT1H
X-Robots-Tag:noindex
X-PUBLISHED-TTL:PT1H
BEGIN:VTIMEZONE
TZID:America/New_York
BEGIN:DAYLIGHT
TZOFFSETFROM:-0500
TZOFFSETTO:-0400
TZNAME:EDT
DTSTART:20280312T070000
END:DAYLIGHT
BEGIN:STANDARD
TZOFFSETFROM:-0400
TZOFFSETTO:-0500
TZNAME:EST
DTSTART:20281105T060000
END:STANDARD
END:VTIMEZONE
BEGIN:VEVENT
DTSTART;TZID=America/New_York:20280125T083000
DTEND;TZID=America/New_York:20280125T163000
DTSTAMP:20260422T180816
CREATED:20260210T140355Z
LAST-MODIFIED:20260210T140355Z
UID:10007822-1832401800-1832430600@soinworks.com
SUMMARY:Offsite Coverage- Corydon
DESCRIPTION:Harrison County Lifelong Learning Center\n\n\n\n\n\n101 W. Hwy. 62\, Ste. 104\nCorydon\, IN 47112\n812.941.6404\nT|W|F – 8:30am – 4:30pm\nThurs 8:00am – 2:00pm\n\n\nSouthern Indiana Works extends its career services beyond our main location to better serve our community. Each Tuesday from 8:30-4:30 and Thursday from 8:00 to 2:30\, our career coaches are available at the Corydon location to provide the same expert guidance and support you’d receive at SIW and WorkOne. Whether you’re looking for job search assistance\, resume help\, training resources\, or career planning\, we’re here to help—just a little closer to you.
URL:https://soinworks.com/event/offsite-coverage-jeffersonville-corydon-2-2-2-2-2/2028-01-25/
ATTACH;FMTTYPE=image/jpeg:https://soinworks.com/wp-content/uploads/2025/09/Untitled-design-e1759761927670.jpg
END:VEVENT
END:VCALENDAR