BEGIN:VCALENDAR
VERSION:2.0
PRODID:-//Southern Indiana Works - ECPv6.13.0//NONSGML v1.0//EN
CALSCALE:GREGORIAN
METHOD:PUBLISH
X-WR-CALNAME:Southern Indiana Works
X-ORIGINAL-URL:https://soinworks.com
X-WR-CALDESC:Events for Southern Indiana Works
REFRESH-INTERVAL;VALUE=DURATION:PT1H
X-Robots-Tag:noindex
X-PUBLISHED-TTL:PT1H
BEGIN:VTIMEZONE
TZID:America/New_York
BEGIN:DAYLIGHT
TZOFFSETFROM:-0500
TZOFFSETTO:-0400
TZNAME:EDT
DTSTART:20260308T070000
END:DAYLIGHT
BEGIN:STANDARD
TZOFFSETFROM:-0400
TZOFFSETTO:-0500
TZNAME:EST
DTSTART:20261101T060000
END:STANDARD
END:VTIMEZONE
BEGIN:VEVENT
DTSTART;VALUE=DATE:20260505
DTEND;VALUE=DATE:20260506
DTSTAMP:20260421T061652
CREATED:20260102T194826Z
LAST-MODIFIED:20260102T195425Z
UID:7793-1777939200-1778025599@soinworks.com
SUMMARY:Primary Election Day
DESCRIPTION:Our office will be closed on Tuesday for The Primary Election Day. Normal business hours will resume on Wednesday. We apologize for any inconvenience and thank you for your understanding.
URL:https://soinworks.com/event/primary-election-day-2/
ATTACH;FMTTYPE=image/jpeg:https://soinworks.com/wp-content/uploads/2025/10/51WoQlG1rUL._UF8941000_QL80_.jpg
END:VEVENT
END:VCALENDAR